BEGIN:VCALENDAR
VERSION:2.0
PRODID:-//audubon-omaha.org//NONSGML kigkonsult.se iCalcreator 2.30.10//
CALSCALE:GREGORIAN
METHOD:PUBLISH
UID:85a6a695-3946-47b9-b0a3-83a6b9f8e559
X-WR-CALDESC:*Please note this is a 3-part class with the other two classes
  held on April 14 and May 5*\n\nWith over 50 million ‘birders’ in the US\,
  bird watching is the fastest growing outdoor activity today. Led by Clem 
 Klaphake and Justin Rink\, past presidents of the Audubon Society of Omaha
 \, this class includes local field trips/walks designed to teach you how t
 o identify the birds in your backyard or any other location you might enco
 unter them and also how to use field guides and binoculars. No prior knowl
 edge of bird identification is needed. \n\nTo register and pay\, please cl
 ick 'Register Now.' This class is for ages 12 and up and is limited to 15 
 people. Registration is required and $25.00 (includes all 3 classes) must 
 be paid before the start of the first class.
X-WR-RELCALID:56f763d7e8194f7724e452cf0d6a5266
X-WR-TIMEZONE:America/Chicago
BEGIN:VTIMEZONE
TZID:America/Chicago
BEGIN:STANDARD
TZNAME:CST
DTSTART:20171105T020000
TZOFFSETFROM:-0500
TZOFFSETTO:-0600
RDATE:20181104T020000
END:STANDARD
BEGIN:DAYLIGHT
TZNAME:CDT
DTSTART:20170312T020000
TZOFFSETFROM:-0600
TZOFFSETTO:-0500
RDATE:20180311T020000
RDATE:20190310T020000
END:DAYLIGHT
END:VTIMEZONE
BEGIN:VEVENT
UID:78da0dd7-b990-47b3-a6ba-61ea901da497
DTSTAMP:20260426T030534Z
DESCRIPTION:*Please note this is a 3-part class with the other two classes 
 held on April 14 and May 5*\n\nWith over 50 million ‘birders’ in the US\, 
 bird watching is the fastest growing outdoor activity today. Led by Clem K
 laphake and Justin Rink\, past presidents of the Audubon Society of Omaha\
 , this class includes local field trips/walks designed to teach you how to
  identify the birds in your backyard or any other location you might encou
 nter them and also how to use field guides and binoculars. No prior knowle
 dge of bird identification is needed. \n\nTo register and pay\, please cli
 ck 'Register Now.' This class is for ages 12 and up and is limited to 15 p
 eople. Registration is required and $25.00 (includes all 3 classes) must b
 e paid before the start of the first class.
DTSTART;TZID=America/Chicago:20180310T080000
DTEND;TZID=America/Chicago:20180310T120000
LOCATION:Fontenelle Forest Nature Center
SUMMARY:Bird Identification Class: Part 1
END:VEVENT
END:VCALENDAR
