BEGIN:VCALENDAR
VERSION:2.0
PRODID:-//audubon-omaha.org//NONSGML kigkonsult.se iCalcreator 2.30.10//
CALSCALE:GREGORIAN
METHOD:PUBLISH
UID:103d5239-a8aa-45b9-95fd-f4b2980ede52
X-WR-CALDESC:
X-WR-RELCALID:c82bfc14ce0f5a3a0e82659a664c7a81
X-WR-TIMEZONE:America/Chicago
BEGIN:VTIMEZONE
TZID:America/Chicago
BEGIN:STANDARD
TZNAME:CST
DTSTART:20171105T020000
TZOFFSETFROM:-0500
TZOFFSETTO:-0600
RDATE:20181104T020000
END:STANDARD
BEGIN:DAYLIGHT
TZNAME:CDT
DTSTART:20180311T020000
TZOFFSETFROM:-0600
TZOFFSETTO:-0500
RDATE:20190310T020000
END:DAYLIGHT
END:VTIMEZONE
BEGIN:VEVENT
UID:59c84086-e2e8-4d5f-9f31-0842ad02d4e7
DTSTAMP:20260426T030705Z
DESCRIPTION:
DTSTART;TZID=America/Chicago:20180315T000000
DTEND;TZID=America/Chicago:20180315T235900
LOCATION:
SUMMARY:Art Contest Winners Announced
END:VEVENT
END:VCALENDAR
