BEGIN:VCALENDAR
VERSION:2.0
PRODID:-//audubon-omaha.org//NONSGML kigkonsult.se iCalcreator 2.30.10//
CALSCALE:GREGORIAN
METHOD:PUBLISH
UID:83672596-beaa-430c-8fab-01b955ae8b1a
X-WR-CALDESC:For those of you new to Audubon\, this group is composed of yo
 uth ranging in age from 8 to 19. Younger youth must be accompanied by an a
 dult. There is no formality or annual time requirement to enjoy this group
  experience. Drop in\, come give it a try. It’s a fun bonding experience f
 or you and your favorite youth.
X-WR-RELCALID:3c480001102315243b992ee17d048346
X-WR-TIMEZONE:America/Chicago
BEGIN:VTIMEZONE
TZID:America/Chicago
BEGIN:STANDARD
TZNAME:CST
DTSTART:20171105T020000
TZOFFSETFROM:-0500
TZOFFSETTO:-0600
RDATE:20181104T020000
END:STANDARD
BEGIN:DAYLIGHT
TZNAME:CDT
DTSTART:20180311T020000
TZOFFSETFROM:-0600
TZOFFSETTO:-0500
RDATE:20190310T020000
END:DAYLIGHT
END:VTIMEZONE
BEGIN:VEVENT
UID:4e19c261-0c1e-4523-8533-ff8b6478809d
DTSTAMP:20260426T030824Z
DESCRIPTION:For those of you new to Audubon\, this group is composed of you
 th ranging in age from 8 to 19. Younger youth must be accompanied by an ad
 ult. There is no formality or annual time requirement to enjoy this group 
 experience. Drop in\, come give it a try. It’s a fun bonding experience fo
 r you and your favorite youth.
DTSTART;TZID=America/Chicago:20180317T151500
DTEND;TZID=America/Chicago:20180317T170000
LOCATION:Walnut Creek Lake\, 96th St.  parking lot
SUMMARY:Omaha Youth Birding Group meet Walnut Creek Lake 96th st entrance
END:VEVENT
END:VCALENDAR
