BEGIN:VCALENDAR
VERSION:2.0
PRODID:-//audubon-omaha.org//NONSGML kigkonsult.se iCalcreator 2.30.10//
CALSCALE:GREGORIAN
METHOD:PUBLISH
UID:e928b0ad-1329-444d-8bf2-6cb6b33316e5
X-WR-CALDESC:
X-WR-RELCALID:c2bae5751b1388c6f13e31c3fff04654
X-WR-TIMEZONE:America/Chicago
BEGIN:VTIMEZONE
TZID:America/Chicago
BEGIN:STANDARD
TZNAME:CST
DTSTART:20171105T020000
TZOFFSETFROM:-0500
TZOFFSETTO:-0600
RDATE:20181104T020000
END:STANDARD
BEGIN:DAYLIGHT
TZNAME:CDT
DTSTART:20180311T020000
TZOFFSETFROM:-0600
TZOFFSETTO:-0500
RDATE:20190310T020000
END:DAYLIGHT
END:VTIMEZONE
BEGIN:VEVENT
UID:ba2a9e29-7ee6-4e34-a38f-b33a108fff39
DTSTAMP:20260426T030824Z
DESCRIPTION:
DTSTART;TZID=America/Chicago:20180325T114500
DTEND;TZID=America/Chicago:20180325T131500
LOCATION:Check back
SUMMARY:Youth and Family Birding Field Trip
END:VEVENT
END:VCALENDAR
