BEGIN:VCALENDAR
VERSION:2.0
PRODID:-//audubon-omaha.org//NONSGML kigkonsult.se iCalcreator 2.30.10//
CALSCALE:GREGORIAN
METHOD:PUBLISH
UID:934801c8-76d1-4f9b-b75f-1509b00b1d10
X-WR-CALDESC:For those of you new to Audubon\, this group is composed of yo
 uth ranging in age from 8 to 19. Younger youth must be accompanied by an a
 dult. There is no formality or annual time requirement to enjoy this group
  experience. Drop in\, come give it a try. It’s a fun bonding experience f
 or you and your favorite youth.
X-WR-RELCALID:5788ebc93860599feb91d564cfbce0fa
X-WR-TIMEZONE:America/Chicago
BEGIN:VTIMEZONE
TZID:America/Chicago
BEGIN:STANDARD
TZNAME:CST
DTSTART:20171105T020000
TZOFFSETFROM:-0500
TZOFFSETTO:-0600
RDATE:20181104T020000
END:STANDARD
BEGIN:DAYLIGHT
TZNAME:CDT
DTSTART:20180311T020000
TZOFFSETFROM:-0600
TZOFFSETTO:-0500
RDATE:20190310T020000
END:DAYLIGHT
END:VTIMEZONE
BEGIN:VEVENT
UID:3a3b2f7a-a05e-40a4-981d-db032a61e4c5
DTSTAMP:20260426T013112Z
DESCRIPTION:For those of you new to Audubon\, this group is composed of you
 th ranging in age from 8 to 19. Younger youth must be accompanied by an ad
 ult. There is no formality or annual time requirement to enjoy this group 
 experience. Drop in\, come give it a try. It’s a fun bonding experience fo
 r you and your favorite youth.
DTSTART;TZID=America/Chicago:20180401T153000
DTEND;TZID=America/Chicago:20180401T170000
LOCATION:Check back
SUMMARY:Omaha Youth Birding Group Field Trip
END:VEVENT
END:VCALENDAR
