BEGIN:VCALENDAR
VERSION:2.0
PRODID:-//audubon-omaha.org//NONSGML kigkonsult.se iCalcreator 2.30.10//
CALSCALE:GREGORIAN
METHOD:PUBLISH
UID:98fc3f68-4dc1-461a-a0b9-198a125ccd9f
X-WR-CALDESC:The weather this spring makes planning field trips a bit more 
 difficult than in previous springs.  For this field trip\, Clem Klaphake i
 s planning on focusing on Shorebirds in Saunders and Seward Counties.\n\nW
 e will meet at 7:00 a.m. at the mitigation pond parking lot on the south s
 ide of Highway 370 just west of I-80 (the first left after the street to W
 almart). From there\, we will head west through western Douglas County’s s
 od fields and then into Saunders County.\n\nBring a lunch if you like – we
  may stop at a fast food place somewhere along the way\, or just bring alo
 ng some granola bars.  NO guarantees there will be tons of birds. \n
X-WR-RELCALID:5147e8fffd45cec615f671aa9a09f902
X-WR-TIMEZONE:America/Chicago
BEGIN:VTIMEZONE
TZID:America/Chicago
BEGIN:STANDARD
TZNAME:CST
DTSTART:20171105T020000
TZOFFSETFROM:-0500
TZOFFSETTO:-0600
RDATE:20181104T020000
END:STANDARD
BEGIN:DAYLIGHT
TZNAME:CDT
DTSTART:20180311T020000
TZOFFSETFROM:-0600
TZOFFSETTO:-0500
RDATE:20190310T020000
END:DAYLIGHT
END:VTIMEZONE
BEGIN:VEVENT
UID:6fe1e84b-a3a2-4e59-9256-0d4bedacb58c
DTSTAMP:20260426T013154Z
DESCRIPTION:The weather this spring makes planning field trips a bit more d
 ifficult than in previous springs.  For this field trip\, Clem Klaphake is
  planning on focusing on Shorebirds in Saunders and Seward Counties.\n\nWe
  will meet at 7:00 a.m. at the mitigation pond parking lot on the south si
 de of Highway 370 just west of I-80 (the first left after the street to Wa
 lmart). From there\, we will head west through western Douglas County’s so
 d fields and then into Saunders County.\n\nBring a lunch if you like – we 
 may stop at a fast food place somewhere along the way\, or just bring alon
 g some granola bars.  NO guarantees there will be tons of birds. \n
DTSTART;TZID=America/Chicago:20180421T070000
DTEND;TZID=America/Chicago:20180421T130000
LOCATION:Meet at the mitigation pond parking lot on the south side of Highw
 ay 370 just west of I-80
SUMMARY:April Field Trip
END:VEVENT
END:VCALENDAR
