BEGIN:VCALENDAR
VERSION:2.0
PRODID:-//audubon-omaha.org//NONSGML kigkonsult.se iCalcreator 2.30.10//
CALSCALE:GREGORIAN
METHOD:PUBLISH
UID:58ccea5a-932e-43fd-b4aa-c88bdf988a19
X-WR-CALDESC:Meeting is postponed to Wednesday\, May 9th at 6pm due to the 
 threat of severe weather.
X-WR-RELCALID:8209350d7948fa2c116d1dcdc959847a
X-WR-TIMEZONE:America/Chicago
BEGIN:VTIMEZONE
TZID:America/Chicago
BEGIN:STANDARD
TZNAME:CST
DTSTART:20171105T020000
TZOFFSETFROM:-0500
TZOFFSETTO:-0600
RDATE:20181104T020000
END:STANDARD
BEGIN:DAYLIGHT
TZNAME:CDT
DTSTART:20180311T020000
TZOFFSETFROM:-0600
TZOFFSETTO:-0500
RDATE:20190310T020000
END:DAYLIGHT
END:VTIMEZONE
BEGIN:VEVENT
UID:00c7be8e-a46b-43f2-8fc8-53be7f1515bc
DTSTAMP:20260426T000416Z
DESCRIPTION:Meeting is postponed to Wednesday\, May 9th at 6pm due to the t
 hreat of severe weather.
DTSTART;TZID=America/Chicago:20180501T190000
DTEND;TZID=America/Chicago:20180501T210000
LOCATION:Center Street Mall\, 1941 S. 42 St
SUMMARY:Board Meeting - POSTPONED
END:VEVENT
END:VCALENDAR
