BEGIN:VCALENDAR
VERSION:2.0
PRODID:-//audubon-omaha.org//NONSGML kigkonsult.se iCalcreator 2.30.10//
CALSCALE:GREGORIAN
METHOD:PUBLISH
UID:7ffc3ad8-d244-4701-925a-0441934613bb
X-WR-CALDESC:
X-WR-RELCALID:3fc7caa63a9a9e6302637411ec5c572f
X-WR-TIMEZONE:America/Chicago
BEGIN:VTIMEZONE
TZID:America/Chicago
BEGIN:STANDARD
TZNAME:CST
DTSTART:20171105T020000
TZOFFSETFROM:-0500
TZOFFSETTO:-0600
RDATE:20181104T020000
RDATE:20191103T020000
END:STANDARD
BEGIN:DAYLIGHT
TZNAME:CDT
DTSTART:20180311T020000
TZOFFSETFROM:-0600
TZOFFSETTO:-0500
RDATE:20190310T020000
END:DAYLIGHT
END:VTIMEZONE
BEGIN:VEVENT
UID:8cd64f67-92d8-415a-b16f-1fd84f9624a7
DTSTAMP:20260426T000256Z
DESCRIPTION:
DTSTART;TZID=America/Chicago:20180509T180000
DTEND;TZID=America/Chicago:20180509T200000
LOCATION:Center Street Mall\, 1941 S. 42 St
SUMMARY:Board Meeting
END:VEVENT
END:VCALENDAR
