BEGIN:VCALENDAR
VERSION:2.0
PRODID:-//audubon-omaha.org//NONSGML kigkonsult.se iCalcreator 2.30.10//
CALSCALE:GREGORIAN
METHOD:PUBLISH
UID:7fec134a-16b0-42cb-8ae3-f9103b993eb6
X-WR-CALDESC:Guest Speaker: Chris Helzer on THE POWER OF DIVERSITY\, REDUND
 ANCY AND RESILIENCE IN PRAIRIES\nChris Helzer is The Nature Conservancy’s 
 Director of Science in Nebraska. His main role is to evaluate and capture 
 lessons from the Conservancy’s land management and restoration work and sh
 are those lessons with other land managers. He also works to raise awarene
 ss about the value of prairies and prairie conservation through his photog
 raphy\, writing\, and presentations. His writings and photos have been fea
 tured in NEBRASKAland Magazine. He is the author of the book entitled “The
  Ecology and Management of Prairies in the Central United States.'\n\nDeta
 ils:\nCash Bar 6 p.m. followed by dinner at 7 p.m. Casual attire. Registra
 tion deadline is Wednesday\, May 9.\nTickets are $21 for Pasta Primavera\,
  $24 for Chicken Piccata\, and $29 for Top Sirloin. Patron tickets are ava
 ilable for $50 per person. Tax-deductible amount per patron ticket is $50 
 minus cost of the dinner. Conservation and education projects that your do
 nations helped support in the last year included Audubon Society of Omaha’
 s Youth Birding group\, Pottawattamie County Hawk Watch and restoration of
  the prairie near Hilltop Trail at Fontenelle Forest’s Neale Woods.
X-WR-RELCALID:dbe19872c76c4f86c5b1894aa35a8088
X-WR-TIMEZONE:America/Chicago
BEGIN:VTIMEZONE
TZID:America/Chicago
BEGIN:STANDARD
TZNAME:CST
DTSTART:20171105T020000
TZOFFSETFROM:-0500
TZOFFSETTO:-0600
RDATE:20181104T020000
RDATE:20191103T020000
END:STANDARD
BEGIN:DAYLIGHT
TZNAME:CDT
DTSTART:20180311T020000
TZOFFSETFROM:-0600
TZOFFSETTO:-0500
RDATE:20190310T020000
END:DAYLIGHT
END:VTIMEZONE
BEGIN:VEVENT
UID:54ed8591-076a-4d31-ba08-cfafd722f775
DTSTAMP:20260426T000405Z
DESCRIPTION:Guest Speaker: Chris Helzer on THE POWER OF DIVERSITY\, REDUNDA
 NCY AND RESILIENCE IN PRAIRIES\nChris Helzer is The Nature Conservancy’s D
 irector of Science in Nebraska. His main role is to evaluate and capture l
 essons from the Conservancy’s land management and restoration work and sha
 re those lessons with other land managers. He also works to raise awarenes
 s about the value of prairies and prairie conservation through his photogr
 aphy\, writing\, and presentations. His writings and photos have been feat
 ured in NEBRASKAland Magazine. He is the author of the book entitled “The 
 Ecology and Management of Prairies in the Central United States.'\n\nDetai
 ls:\nCash Bar 6 p.m. followed by dinner at 7 p.m. Casual attire. Registrat
 ion deadline is Wednesday\, May 9.\nTickets are $21 for Pasta Primavera\, 
 $24 for Chicken Piccata\, and $29 for Top Sirloin. Patron tickets are avai
 lable for $50 per person. Tax-deductible amount per patron ticket is $50 m
 inus cost of the dinner. Conservation and education projects that your don
 ations helped support in the last year included Audubon Society of Omaha’s
  Youth Birding group\, Pottawattamie County Hawk Watch and restoration of 
 the prairie near Hilltop Trail at Fontenelle Forest’s Neale Woods.
DTSTART;TZID=America/Chicago:20180516T180000
DTEND;TZID=America/Chicago:20180516T210000
LOCATION:Anthony’s Steakhouse • 7220 F Street • Omaha\, NE 68127
SUMMARY:Annual Banquet
END:VEVENT
END:VCALENDAR
