BEGIN:VCALENDAR
VERSION:2.0
PRODID:-//audubon-omaha.org//NONSGML kigkonsult.se iCalcreator 2.30.10//
CALSCALE:GREGORIAN
METHOD:PUBLISH
UID:df0e6093-357b-4f15-a3d0-1a51b99aab94
X-WR-CALDESC:\nIf running late you’ll want to call\, because we will likely
  travel on down to the Signal Ridge trail. 4028850990\nFor those of you ne
 w to Audubon\, this group is composed of youth ranging in age from 8 to 19
 . Younger youth must be accompanied by an adult. There is no formality or 
 annual time requirement to enjoy this group experience. Drop in\, come giv
 e it a try. It’s a fun bonding experience for you and your favorite youth.
X-WR-RELCALID:f68775f8c09fec4eb66cb819d4dcc63f
X-WR-TIMEZONE:America/Chicago
BEGIN:VTIMEZONE
TZID:America/Chicago
BEGIN:STANDARD
TZNAME:CST
DTSTART:20171105T020000
TZOFFSETFROM:-0500
TZOFFSETTO:-0600
RDATE:20181104T020000
RDATE:20191103T020000
END:STANDARD
BEGIN:DAYLIGHT
TZNAME:CDT
DTSTART:20180311T020000
TZOFFSETFROM:-0600
TZOFFSETTO:-0500
RDATE:20190310T020000
END:DAYLIGHT
END:VTIMEZONE
BEGIN:VEVENT
UID:f24ff474-90fd-4370-aede-ca90f8503906
DTSTAMP:20260426T000330Z
DESCRIPTION:\nIf running late you’ll want to call\, because we will likely 
 travel on down to the Signal Ridge trail. 4028850990\nFor those of you new
  to Audubon\, this group is composed of youth ranging in age from 8 to 19.
  Younger youth must be accompanied by an adult. There is no formality or a
 nnual time requirement to enjoy this group experience. Drop in\, come give
  it a try. It’s a fun bonding experience for you and your favorite youth.
DTSTART;TZID=America/Chicago:20180520T153000
DTEND;TZID=America/Chicago:20180520T170000
LOCATION:1111 Bellevue Blvd.  Fontenelle Forest Nature Center
SUMMARY:Omaha Youth Birding Group Field Trip
END:VEVENT
END:VCALENDAR
