BEGIN:VCALENDAR
VERSION:2.0
PRODID:-//audubon-omaha.org//NONSGML kigkonsult.se iCalcreator 2.30.10//
CALSCALE:GREGORIAN
METHOD:PUBLISH
UID:c7af4345-0748-4db2-8612-66aa4fc0079f
X-WR-CALDESC:You are invited to join a field trip to ASO's new prairie acqu
 isition led by Glenn Pollock on Saturday\, August 11. The site is approxim
 ately 3 miles northwest of Blair. The cemetery prairie is the only known M
 issouri River Valley Loess Hills prairie in Nebraska. The site comprises 1
 0 acres\, is preserved in its natural state and named the Cuming City Ceme
 tery and Nature Preserve. It was transferred from the Nature Conservancy t
 o ASO on June 22 and will be renamed to reflect our ownership.\n\nParking 
 is very limited at the site\, off a blacktop road with ditches\, steep gra
 des and no shoulders. So meet us at the Blair Memorial Hospital parking lo
 t at 9:30 am to car pool the remaining 2 miles to the prairie.
X-WR-RELCALID:91c7f7db0ad3fdba0c25405a278d7835
X-WR-TIMEZONE:America/Chicago
BEGIN:VTIMEZONE
TZID:America/Chicago
BEGIN:STANDARD
TZNAME:CST
DTSTART:20171105T020000
TZOFFSETFROM:-0500
TZOFFSETTO:-0600
RDATE:20181104T020000
RDATE:20191103T020000
END:STANDARD
BEGIN:DAYLIGHT
TZNAME:CDT
DTSTART:20180311T020000
TZOFFSETFROM:-0600
TZOFFSETTO:-0500
RDATE:20190310T020000
END:DAYLIGHT
END:VTIMEZONE
BEGIN:VEVENT
UID:35bd1204-4f29-4ab4-9d45-9286dae5ce04
DTSTAMP:20260425T191304Z
DESCRIPTION:You are invited to join a field trip to ASO's new prairie acqui
 sition led by Glenn Pollock on Saturday\, August 11. The site is approxima
 tely 3 miles northwest of Blair. The cemetery prairie is the only known Mi
 ssouri River Valley Loess Hills prairie in Nebraska. The site comprises 10
  acres\, is preserved in its natural state and named the Cuming City Cemet
 ery and Nature Preserve. It was transferred from the Nature Conservancy to
  ASO on June 22 and will be renamed to reflect our ownership.\n\nParking i
 s very limited at the site\, off a blacktop road with ditches\, steep grad
 es and no shoulders. So meet us at the Blair Memorial Hospital parking lot
  at 9:30 am to car pool the remaining 2 miles to the prairie.
DTSTART;TZID=America/Chicago:20180811T093000
DTEND;TZID=America/Chicago:20180811T110000
LOCATION:
SUMMARY:Field Trip to New Prairie
END:VEVENT
END:VCALENDAR
