BEGIN:VCALENDAR
VERSION:2.0
PRODID:-//audubon-omaha.org//NONSGML kigkonsult.se iCalcreator 2.30.10//
CALSCALE:GREGORIAN
METHOD:PUBLISH
UID:ca9b5c37-5498-4f97-a1ef-bf9b0e2c3080
X-WR-CALDESC:Flat and marsh-like
X-WR-RELCALID:46010bba0c1407f54138d8afbfdf2548
X-WR-TIMEZONE:America/Chicago
BEGIN:VTIMEZONE
TZID:America/Chicago
BEGIN:STANDARD
TZNAME:CST
DTSTART:20171105T020000
TZOFFSETFROM:-0500
TZOFFSETTO:-0600
RDATE:20181104T020000
RDATE:20191103T020000
END:STANDARD
BEGIN:DAYLIGHT
TZNAME:CDT
DTSTART:20180311T020000
TZOFFSETFROM:-0600
TZOFFSETTO:-0500
RDATE:20190310T020000
END:DAYLIGHT
END:VTIMEZONE
BEGIN:VEVENT
UID:fcae4f65-a80f-4aae-8931-2e5037463594
DTSTAMP:20260425T191419Z
DESCRIPTION:Flat and marsh-like
DTSTART;TZID=America/Chicago:20180825T153000
DTEND;TZID=America/Chicago:20180825T170000
LOCATION:La Platte Bottoms
SUMMARY:Youth Family Birding Field Trip
END:VEVENT
END:VCALENDAR
