BEGIN:VCALENDAR
VERSION:2.0
PRODID:-//audubon-omaha.org//NONSGML kigkonsult.se iCalcreator 2.30.10//
CALSCALE:GREGORIAN
METHOD:PUBLISH
UID:e1f31523-39bb-448e-99c4-ff4edaca6136
X-WR-CALDESC:
X-WR-RELCALID:688681346191a10c0c428974a5de3640
X-WR-TIMEZONE:America/Chicago
BEGIN:VTIMEZONE
TZID:America/Chicago
BEGIN:STANDARD
TZNAME:CST
DTSTART:20171105T020000
TZOFFSETFROM:-0500
TZOFFSETTO:-0600
RDATE:20181104T020000
RDATE:20191103T020000
END:STANDARD
BEGIN:DAYLIGHT
TZNAME:CDT
DTSTART:20180311T020000
TZOFFSETFROM:-0600
TZOFFSETTO:-0500
RDATE:20190310T020000
END:DAYLIGHT
END:VTIMEZONE
BEGIN:VEVENT
UID:b17c699f-5e1d-40db-875b-7b0337a922b3
DTSTAMP:20260425T173012Z
DESCRIPTION:
DTSTART;TZID=America/Chicago:20180904T190000
DTEND;TZID=America/Chicago:20180904T210000
LOCATION:Center Street Mall\, 1941 S. 42 St
SUMMARY:Board Meeting
END:VEVENT
END:VCALENDAR
