BEGIN:VCALENDAR
VERSION:2.0
PRODID:-//audubon-omaha.org//NONSGML kigkonsult.se iCalcreator 2.30.10//
CALSCALE:GREGORIAN
METHOD:PUBLISH
UID:d29e88f7-338a-4437-862b-457188c4f231
X-WR-CALDESC:Bird seed sale orders are due today.
X-WR-RELCALID:d647efda005c4c1fb17684843f1cd2d9
X-WR-TIMEZONE:America/Chicago
BEGIN:VTIMEZONE
TZID:America/Chicago
BEGIN:STANDARD
TZNAME:CST
DTSTART:20171105T020000
TZOFFSETFROM:-0500
TZOFFSETTO:-0600
RDATE:20181104T020000
RDATE:20191103T020000
END:STANDARD
BEGIN:DAYLIGHT
TZNAME:CDT
DTSTART:20180311T020000
TZOFFSETFROM:-0600
TZOFFSETTO:-0500
RDATE:20190310T020000
RDATE:20200308T020000
END:DAYLIGHT
END:VTIMEZONE
BEGIN:VEVENT
UID:4237e1f5-1da4-4a30-a8db-84e4edd983b8
DTSTAMP:20260425T153935Z
DESCRIPTION:Bird seed sale orders are due today.
DTSTART;TZID=America/Chicago:20181002T000000
DTEND;TZID=America/Chicago:20181002T235900
LOCATION:
SUMMARY:Bird Seed Sale Orders Due
END:VEVENT
END:VCALENDAR
