BEGIN:VCALENDAR
VERSION:2.0
PRODID:-//audubon-omaha.org//NONSGML kigkonsult.se iCalcreator 2.30.10//
CALSCALE:GREGORIAN
METHOD:PUBLISH
UID:7ffe08ce-ed79-4980-ab54-1abdbac2f006
X-WR-CALDESC:
X-WR-RELCALID:0a4768193733bb89733fc0d9238bc450
X-WR-TIMEZONE:America/Chicago
BEGIN:VTIMEZONE
TZID:America/Chicago
BEGIN:STANDARD
TZNAME:CST
DTSTART:20171105T020000
TZOFFSETFROM:-0500
TZOFFSETTO:-0600
RDATE:20181104T020000
RDATE:20191103T020000
END:STANDARD
BEGIN:DAYLIGHT
TZNAME:CDT
DTSTART:20180311T020000
TZOFFSETFROM:-0600
TZOFFSETTO:-0500
RDATE:20190310T020000
RDATE:20200308T020000
END:DAYLIGHT
END:VTIMEZONE
BEGIN:VEVENT
UID:86c8b816-4439-47da-b97d-fc8ecf2495b0
DTSTAMP:20260425T152646Z
DESCRIPTION:
DTSTART;TZID=America/Chicago:20181002T190000
DTEND;TZID=America/Chicago:20181002T210000
LOCATION:Center Street Mall\, 1941 S. 42 St
SUMMARY:Board Meeting
END:VEVENT
END:VCALENDAR
