BEGIN:VCALENDAR
VERSION:2.0
PRODID:-//audubon-omaha.org//NONSGML kigkonsult.se iCalcreator 2.30.10//
CALSCALE:GREGORIAN
METHOD:PUBLISH
UID:f30849c0-b97c-4a3f-8722-d3bbce78bd3d
X-WR-CALDESC:Learn about the resilient bald eagle named Bolt. After being f
 ound with a mysterious electrical burn\, a team including presenter Dr. Tr
 ent Shrader\, performed a skin graft surgery\, which eventually led to the
  bald eagle being released back into the wild. \n \nThe meeting will be he
 ld at the UNO Dodge Campus in the Weitz Community Engagement Center\, room
  209 (please note room number has been change) at 7pm. This is a free publ
 ic event\, so feel free to invite friends. \n\nPhoto credit: The Omaha Hen
 ry Doorly Zoo and Aquarium Staff
X-WR-RELCALID:37732c23064bd7ac70300202f04e6b16
X-WR-TIMEZONE:America/Chicago
BEGIN:VTIMEZONE
TZID:America/Chicago
BEGIN:STANDARD
TZNAME:CST
DTSTART:20171105T020000
TZOFFSETFROM:-0500
TZOFFSETTO:-0600
RDATE:20181104T020000
RDATE:20191103T020000
END:STANDARD
BEGIN:DAYLIGHT
TZNAME:CDT
DTSTART:20180311T020000
TZOFFSETFROM:-0600
TZOFFSETTO:-0500
RDATE:20190310T020000
RDATE:20200308T020000
END:DAYLIGHT
END:VTIMEZONE
BEGIN:VEVENT
UID:168db8ed-e696-45d3-9504-384348de859d
DTSTAMP:20260425T153206Z
DESCRIPTION:Learn about the resilient bald eagle named Bolt. After being fo
 und with a mysterious electrical burn\, a team including presenter Dr. Tre
 nt Shrader\, performed a skin graft surgery\, which eventually led to the 
 bald eagle being released back into the wild. \n \nThe meeting will be hel
 d at the UNO Dodge Campus in the Weitz Community Engagement Center\, room 
 209 (please note room number has been change) at 7pm. This is a free publi
 c event\, so feel free to invite friends. \n\nPhoto credit: The Omaha Henr
 y Doorly Zoo and Aquarium Staff
DTSTART;TZID=America/Chicago:20181011T190000
DTEND;TZID=America/Chicago:20181011T210000
LOCATION:Weitz Community Engagement Center (room 209) on the UNO Dodge Camp
 us
SUMMARY:General Meeting: The Amazing Journey of Bolt
END:VEVENT
END:VCALENDAR
