BEGIN:VCALENDAR
VERSION:2.0
PRODID:-//audubon-omaha.org//NONSGML kigkonsult.se iCalcreator 2.30.10//
CALSCALE:GREGORIAN
METHOD:PUBLISH
UID:c1253edd-83f8-4789-befe-3cce43c7d078
X-WR-CALDESC:This field trip will be mostly walking. Focus will be on sparr
 ows. We will meet in the parking lot by the boat ramp on the northwest sid
 e of the lake at Prairie Queen Recreation Area at 8:30am. This parking lot
  can be reached by going east on Cornhusker Rd from the intersection of Co
 rnhusker Rd and south 132nd St. Participants should bring water/snacks and
  plan on a late lunch.\n
X-WR-RELCALID:e2c6e33ca7dd0f98805e33f3b9b69c48
X-WR-TIMEZONE:America/Chicago
BEGIN:VTIMEZONE
TZID:America/Chicago
BEGIN:STANDARD
TZNAME:CST
DTSTART:20171105T020000
TZOFFSETFROM:-0500
TZOFFSETTO:-0600
RDATE:20181104T020000
RDATE:20191103T020000
END:STANDARD
BEGIN:DAYLIGHT
TZNAME:CDT
DTSTART:20180311T020000
TZOFFSETFROM:-0600
TZOFFSETTO:-0500
RDATE:20190310T020000
RDATE:20200308T020000
END:DAYLIGHT
END:VTIMEZONE
BEGIN:VEVENT
UID:9e7d053d-d88c-4838-a49f-49ac35680924
DTSTAMP:20260425T155003Z
DESCRIPTION:This field trip will be mostly walking. Focus will be on sparro
 ws. We will meet in the parking lot by the boat ramp on the northwest side
  of the lake at Prairie Queen Recreation Area at 8:30am. This parking lot 
 can be reached by going east on Cornhusker Rd from the intersection of Cor
 nhusker Rd and south 132nd St. Participants should bring water/snacks and 
 plan on a late lunch.\n
DTSTART;TZID=America/Chicago:20181020T083000
DTEND;TZID=America/Chicago:20181020T130000
LOCATION:Prairie Queen Recreation Area in Papillion NE
SUMMARY:Field Trip to Prairie Queen Recreation Area in Search of Sparrows
END:VEVENT
END:VCALENDAR
