BEGIN:VCALENDAR
VERSION:2.0
PRODID:-//audubon-omaha.org//NONSGML kigkonsult.se iCalcreator 2.30.10//
CALSCALE:GREGORIAN
METHOD:PUBLISH
UID:4e6f7da1-33b8-402d-85a0-c45ceb88e884
X-WR-CALDESC:
X-WR-RELCALID:e746bfb1b6d830e0f7dc5d306ccb77ec
X-WR-TIMEZONE:America/Chicago
BEGIN:VTIMEZONE
TZID:America/Chicago
BEGIN:STANDARD
TZNAME:CST
DTSTART:20171105T020000
TZOFFSETFROM:-0500
TZOFFSETTO:-0600
RDATE:20181104T020000
RDATE:20191103T020000
END:STANDARD
BEGIN:DAYLIGHT
TZNAME:CDT
DTSTART:20180311T020000
TZOFFSETFROM:-0600
TZOFFSETTO:-0500
RDATE:20190310T020000
RDATE:20200308T020000
END:DAYLIGHT
END:VTIMEZONE
BEGIN:VEVENT
UID:a0464232-b043-45b8-a4c9-3809549fc83c
DTSTAMP:20260425T153156Z
DESCRIPTION:
DTSTART;TZID=America/Chicago:20181021T143000
DTEND;TZID=America/Chicago:20181021T160000
LOCATION:To be determined
SUMMARY:Youth and Family Birding Field Trip
END:VEVENT
END:VCALENDAR
