BEGIN:VCALENDAR
VERSION:2.0
PRODID:-//audubon-omaha.org//NONSGML kigkonsult.se iCalcreator 2.30.10//
CALSCALE:GREGORIAN
METHOD:PUBLISH
UID:24cfcf32-7ee2-4659-95b7-99a40873ba19
X-WR-CALDESC:*The date has been changed as to not coincide with Election Da
 y.
X-WR-RELCALID:883cfef94cb494b74284b61afd6a63f8
X-WR-TIMEZONE:America/Chicago
BEGIN:VTIMEZONE
TZID:America/Chicago
BEGIN:STANDARD
TZNAME:CST
DTSTART:20171105T020000
TZOFFSETFROM:-0500
TZOFFSETTO:-0600
RDATE:20181104T020000
RDATE:20191103T020000
END:STANDARD
BEGIN:DAYLIGHT
TZNAME:CDT
DTSTART:20180311T020000
TZOFFSETFROM:-0600
TZOFFSETTO:-0500
RDATE:20190310T020000
RDATE:20200308T020000
END:DAYLIGHT
END:VTIMEZONE
BEGIN:VEVENT
UID:b99d6555-a5a1-4827-8c80-2cfaab53d98a
DTSTAMP:20260425T134834Z
DESCRIPTION:*The date has been changed as to not coincide with Election Day
 .
DTSTART;TZID=America/Chicago:20181105T190000
DTEND;TZID=America/Chicago:20181105T210000
LOCATION:Center Street Mall\, 1941 S. 42 St
SUMMARY:Board Meeting
END:VEVENT
END:VCALENDAR
