BEGIN:VCALENDAR
VERSION:2.0
PRODID:-//audubon-omaha.org//NONSGML kigkonsult.se iCalcreator 2.30.10//
CALSCALE:GREGORIAN
METHOD:PUBLISH
UID:8537158f-9ef5-43f9-81b0-6cf07756587d
X-WR-CALDESC:
X-WR-RELCALID:bf731717b419703aff830cf7a562ad19
X-WR-TIMEZONE:America/Chicago
BEGIN:VTIMEZONE
TZID:America/Chicago
BEGIN:STANDARD
TZNAME:CST
DTSTART:20181104T020000
TZOFFSETFROM:-0500
TZOFFSETTO:-0600
RDATE:20191103T020000
END:STANDARD
BEGIN:DAYLIGHT
TZNAME:CDT
DTSTART:20180311T020000
TZOFFSETFROM:-0600
TZOFFSETTO:-0500
RDATE:20190310T020000
RDATE:20200308T020000
END:DAYLIGHT
END:VTIMEZONE
BEGIN:VEVENT
UID:a0107751-dd19-40d2-b70b-3335796dbf38
DTSTAMP:20260425T134907Z
DESCRIPTION:
DTSTART;TZID=America/Chicago:20181106T000000
DTEND;TZID=America/Chicago:20181106T235900
LOCATION:
SUMMARY:Election Day - When Voting\, Please Remember the Birds
END:VEVENT
END:VCALENDAR
