BEGIN:VCALENDAR
VERSION:2.0
PRODID:-//audubon-omaha.org//NONSGML kigkonsult.se iCalcreator 2.30.10//
CALSCALE:GREGORIAN
METHOD:PUBLISH
UID:8cac915d-c71f-4c40-b24e-59df8baf1842
X-WR-CALDESC:Cancelled due to the cold
X-WR-RELCALID:8d5ba8ab30d823e264f2f6d5d6a181ea
X-WR-TIMEZONE:America/Chicago
BEGIN:VTIMEZONE
TZID:America/Chicago
BEGIN:STANDARD
TZNAME:CST
DTSTART:20181104T020000
TZOFFSETFROM:-0500
TZOFFSETTO:-0600
RDATE:20191103T020000
END:STANDARD
BEGIN:DAYLIGHT
TZNAME:CDT
DTSTART:20180311T020000
TZOFFSETFROM:-0600
TZOFFSETTO:-0500
RDATE:20190310T020000
RDATE:20200308T020000
END:DAYLIGHT
END:VTIMEZONE
BEGIN:VEVENT
UID:e84e8ae1-f320-491e-98a1-6c85b27c6d3d
DTSTAMP:20260425T140306Z
DESCRIPTION:Cancelled due to the cold
DTSTART;TZID=America/Chicago:20181117T000000
DTEND;TZID=America/Chicago:20181117T235900
LOCATION:
SUMMARY:All Day Field Trip - Cancelled Due to the Cold
END:VEVENT
END:VCALENDAR
