BEGIN:VCALENDAR
VERSION:2.0
PRODID:-//audubon-omaha.org//NONSGML kigkonsult.se iCalcreator 2.30.10//
CALSCALE:GREGORIAN
METHOD:PUBLISH
UID:4ccac625-c043-485f-8fdb-7bf6dca996d1
X-WR-CALDESC:
X-WR-RELCALID:8ec6d8a830e4d86e3e109417e7b0f1b4
X-WR-TIMEZONE:America/Chicago
BEGIN:VTIMEZONE
TZID:America/Chicago
BEGIN:STANDARD
TZNAME:CST
DTSTART:20181104T020000
TZOFFSETFROM:-0500
TZOFFSETTO:-0600
RDATE:20191103T020000
END:STANDARD
BEGIN:DAYLIGHT
TZNAME:CDT
DTSTART:20180311T020000
TZOFFSETFROM:-0600
TZOFFSETTO:-0500
RDATE:20190310T020000
RDATE:20200308T020000
END:DAYLIGHT
END:VTIMEZONE
BEGIN:VEVENT
UID:23badd61-e64e-4de3-86fc-ae6c70157482
DTSTAMP:20260425T140305Z
DESCRIPTION:
DTSTART;TZID=America/Chicago:20181117T140000
DTEND;TZID=America/Chicago:20181117T153000
LOCATION:To be determined
SUMMARY:Youth and Family Birding Field trip
END:VEVENT
END:VCALENDAR
