BEGIN:VCALENDAR
VERSION:2.0
PRODID:-//audubon-omaha.org//NONSGML kigkonsult.se iCalcreator 2.30.10//
CALSCALE:GREGORIAN
METHOD:PUBLISH
UID:0b5d7a95-0aac-4f88-83e2-73694032e304
X-WR-CALDESC:
X-WR-RELCALID:df468e98feb636156c76143624d45c47
X-WR-TIMEZONE:America/Chicago
BEGIN:VTIMEZONE
TZID:America/Chicago
BEGIN:STANDARD
TZNAME:CST
DTSTART:20181104T020000
TZOFFSETFROM:-0500
TZOFFSETTO:-0600
RDATE:20191103T020000
END:STANDARD
BEGIN:DAYLIGHT
TZNAME:CDT
DTSTART:20180311T020000
TZOFFSETFROM:-0600
TZOFFSETTO:-0500
RDATE:20190310T020000
RDATE:20200308T020000
END:DAYLIGHT
END:VTIMEZONE
BEGIN:VEVENT
UID:f9df88bb-9d11-4421-b380-ff68e5d68ca3
DTSTAMP:20260425T120228Z
DESCRIPTION:
DTSTART;TZID=America/Chicago:20181204T190000
DTEND;TZID=America/Chicago:20181204T210000
LOCATION:Email Meeting
SUMMARY:Board Meeting
END:VEVENT
END:VCALENDAR
