BEGIN:VCALENDAR
VERSION:2.0
PRODID:-//audubon-omaha.org//NONSGML kigkonsult.se iCalcreator 2.30.10//
CALSCALE:GREGORIAN
METHOD:PUBLISH
UID:3d24aba7-bb2f-473e-9a08-e2820d8e381c
X-WR-CALDESC:True to our tradition\, we will not have a program in December
 . Enjoy the Holidays and we look forward to seeing you in January.
X-WR-RELCALID:7551e04d6bc4906c171e88bfd7eddbc7
X-WR-TIMEZONE:America/Chicago
BEGIN:VTIMEZONE
TZID:America/Chicago
BEGIN:STANDARD
TZNAME:CST
DTSTART:20181104T020000
TZOFFSETFROM:-0500
TZOFFSETTO:-0600
RDATE:20191103T020000
END:STANDARD
BEGIN:DAYLIGHT
TZNAME:CDT
DTSTART:20180311T020000
TZOFFSETFROM:-0600
TZOFFSETTO:-0500
RDATE:20190310T020000
RDATE:20200308T020000
END:DAYLIGHT
END:VTIMEZONE
BEGIN:VEVENT
UID:9ac05599-5615-4906-8309-104389d3ae2b
DTSTAMP:20260425T120009Z
DESCRIPTION:True to our tradition\, we will not have a program in December.
  Enjoy the Holidays and we look forward to seeing you in January.
DTSTART;TZID=America/Chicago:20181213T000000
DTEND;TZID=America/Chicago:20181213T235900
LOCATION:
SUMMARY:Reminder: No Program in December
END:VEVENT
END:VCALENDAR
