BEGIN:VCALENDAR
VERSION:2.0
PRODID:-//audubon-omaha.org//NONSGML kigkonsult.se iCalcreator 2.30.10//
CALSCALE:GREGORIAN
METHOD:PUBLISH
UID:0383d4e5-7b7d-4ec4-bad6-7fd95aae055e
X-WR-CALDESC:There will be no field trip in December\; ASO members are enco
 uraged to participate in one or more Christmas Bird Counts. To register fo
 r the Omaha count on Wednesday\, December 19\, contact Rick Schmid at: sch
 mid_r@msn.com. Participation times are flexible. Locations vary.
X-WR-RELCALID:9459d179b000cf1b51139b8e19016e29
X-WR-TIMEZONE:America/Chicago
BEGIN:VTIMEZONE
TZID:America/Chicago
BEGIN:STANDARD
TZNAME:CST
DTSTART:20181104T020000
TZOFFSETFROM:-0500
TZOFFSETTO:-0600
RDATE:20191103T020000
END:STANDARD
BEGIN:DAYLIGHT
TZNAME:CDT
DTSTART:20180311T020000
TZOFFSETFROM:-0600
TZOFFSETTO:-0500
RDATE:20190310T020000
RDATE:20200308T020000
END:DAYLIGHT
END:VTIMEZONE
BEGIN:VEVENT
UID:57e1b949-6398-4682-8f17-fdcecfb9b61a
DTSTAMP:20260425T120353Z
DESCRIPTION:There will be no field trip in December\; ASO members are encou
 raged to participate in one or more Christmas Bird Counts. To register for
  the Omaha count on Wednesday\, December 19\, contact Rick Schmid at: schm
 id_r@msn.com. Participation times are flexible. Locations vary.
DTSTART;TZID=America/Chicago:20181219T000000
DTEND;TZID=America/Chicago:20181219T235900
LOCATION:
SUMMARY:Omaha Christmas Bird Count
END:VEVENT
END:VCALENDAR
