BEGIN:VCALENDAR
VERSION:2.0
PRODID:-//audubon-omaha.org//NONSGML kigkonsult.se iCalcreator 2.30.10//
CALSCALE:GREGORIAN
METHOD:PUBLISH
UID:9c6112b7-ef91-4f72-96b1-810ab071b65d
X-WR-CALDESC:The DeSoto Christmas Bird Count is scheduled for Saturday\, De
 cember 22nd. If you wish to participate contact Jerry Toll at geritol48@co
 x.net or 402-312-1635.
X-WR-RELCALID:c1717a5828cd1db7f310fedb481a1e67
X-WR-TIMEZONE:America/Chicago
BEGIN:VTIMEZONE
TZID:America/Chicago
BEGIN:STANDARD
TZNAME:CST
DTSTART:20181104T020000
TZOFFSETFROM:-0500
TZOFFSETTO:-0600
RDATE:20191103T020000
END:STANDARD
BEGIN:DAYLIGHT
TZNAME:CDT
DTSTART:20180311T020000
TZOFFSETFROM:-0600
TZOFFSETTO:-0500
RDATE:20190310T020000
RDATE:20200308T020000
END:DAYLIGHT
END:VTIMEZONE
BEGIN:VEVENT
UID:27dcb87c-13f4-44a8-90ed-3c4583d3f335
DTSTAMP:20260425T120511Z
DESCRIPTION:The DeSoto Christmas Bird Count is scheduled for Saturday\, Dec
 ember 22nd. If you wish to participate contact Jerry Toll at geritol48@cox
 .net or 402-312-1635.
DTSTART;TZID=America/Chicago:20181222T000000
DTEND;TZID=America/Chicago:20181222T235900
LOCATION:
SUMMARY:DeSoto Christmas Bird Count
END:VEVENT
END:VCALENDAR
