BEGIN:VCALENDAR
VERSION:2.0
PRODID:-//audubon-omaha.org//NONSGML kigkonsult.se iCalcreator 2.30.10//
CALSCALE:GREGORIAN
METHOD:PUBLISH
UID:fccb7104-8cbc-4655-a8e6-45388a75e406
X-WR-CALDESC:****Due to safety concerns related to the weather\, ASO has ca
 nceled the field trip for today. It will not be rescheduled.****\n
X-WR-RELCALID:00d28fc5c1d01a0957affafb5701f451
X-WR-TIMEZONE:America/Chicago
BEGIN:VTIMEZONE
TZID:America/Chicago
BEGIN:STANDARD
TZNAME:CST
DTSTART:20181104T020000
TZOFFSETFROM:-0500
TZOFFSETTO:-0600
RDATE:20191103T020000
END:STANDARD
BEGIN:DAYLIGHT
TZNAME:CDT
DTSTART:20180311T020000
TZOFFSETFROM:-0600
TZOFFSETTO:-0500
RDATE:20190310T020000
RDATE:20200308T020000
END:DAYLIGHT
END:VTIMEZONE
BEGIN:VEVENT
UID:c1d531ac-e015-4720-8d4a-43efae9100b8
DTSTAMP:20260425T103020Z
DESCRIPTION:****Due to safety concerns related to the weather\, ASO has can
 celed the field trip for today. It will not be rescheduled.****\n
DTSTART;TZID=America/Chicago:20190119T000000
DTEND;TZID=America/Chicago:20190119T235900
LOCATION:Canceled
SUMMARY:Field Trip - Canceled
END:VEVENT
END:VCALENDAR
