BEGIN:VCALENDAR
VERSION:2.0
PRODID:-//audubon-omaha.org//NONSGML kigkonsult.se iCalcreator 2.30.10//
CALSCALE:GREGORIAN
METHOD:PUBLISH
UID:3c48d5eb-3684-4368-89fb-cf5cfc06111b
X-WR-CALDESC:Warbler watch to local Omaha migration hotspots. Field trip wi
 ll be mostly walking. Focus will be on spring migrants\, especially warble
 rs and vireos. We will meet at 8:00am at Walnut Grove Park on 150th & Q St
 reets in the first (southernmost) parking area on the east side of the pon
 d. The park itself is on the north side of Q Street. After Walnut Grove Pa
 rk\, we will visit Towl Park (time permitting) near 94th and Center Street
 s.\n\nThis will be ASO’s final field trip of the fiscal year. Field trips 
 will resume again in the fall of 2019.
X-WR-RELCALID:0f3d7f7d068e5d1d9c844b2c7f8d8813
X-WR-TIMEZONE:America/Chicago
BEGIN:VTIMEZONE
TZID:America/Chicago
BEGIN:STANDARD
TZNAME:CST
DTSTART:20181104T020000
TZOFFSETFROM:-0500
TZOFFSETTO:-0600
RDATE:20191103T020000
RDATE:20201101T020000
END:STANDARD
BEGIN:DAYLIGHT
TZNAME:CDT
DTSTART:20190310T020000
TZOFFSETFROM:-0600
TZOFFSETTO:-0500
RDATE:20200308T020000
END:DAYLIGHT
END:VTIMEZONE
BEGIN:VEVENT
UID:ba95489e-14ef-423b-bc82-b93e2529a6cf
DTSTAMP:20260425T030404Z
DESCRIPTION:Warbler watch to local Omaha migration hotspots. Field trip wil
 l be mostly walking. Focus will be on spring migrants\, especially warbler
 s and vireos. We will meet at 8:00am at Walnut Grove Park on 150th & Q Str
 eets in the first (southernmost) parking area on the east side of the pond
 . The park itself is on the north side of Q Street. After Walnut Grove Par
 k\, we will visit Towl Park (time permitting) near 94th and Center Streets
 .\n\nThis will be ASO’s final field trip of the fiscal year. Field trips w
 ill resume again in the fall of 2019.
DTSTART;TZID=America/Chicago:20190504T080000
DTEND;TZID=America/Chicago:20190504T113000
LOCATION:
SUMMARY:Warbler Watch - May Field Trip
END:VEVENT
END:VCALENDAR
