BEGIN:VCALENDAR
VERSION:2.0
PRODID:-//audubon-omaha.org//NONSGML kigkonsult.se iCalcreator 2.30.10//
CALSCALE:GREGORIAN
METHOD:PUBLISH
UID:28455dfc-0da8-40b2-ad50-84c00dd28891
X-WR-CALDESC:Join Audubon Nebraska & the Audubon Society of Omaha during Pr
 ide Month for this all-inclusive\, fun\, free\, and informal bird walk eve
 nt to celebrate the diversity of our birds & community! Binoculars will be
  available and all are welcome. Let’s Go Birding Together!\n\nTo sign up o
 r for more information\, email Jason “the Birdnerd” at jstsauver@audubon.o
 rg.
X-WR-RELCALID:c9f7a39a1ac5f154209b8d292e840d41
X-WR-TIMEZONE:America/Chicago
BEGIN:VTIMEZONE
TZID:America/Chicago
BEGIN:STANDARD
TZNAME:CST
DTSTART:20181104T020000
TZOFFSETFROM:-0500
TZOFFSETTO:-0600
RDATE:20191103T020000
RDATE:20201101T020000
END:STANDARD
BEGIN:DAYLIGHT
TZNAME:CDT
DTSTART:20190310T020000
TZOFFSETFROM:-0600
TZOFFSETTO:-0500
RDATE:20200308T020000
END:DAYLIGHT
END:VTIMEZONE
BEGIN:VEVENT
UID:92e80196-e2f4-4d85-a8ac-30a2e5ec2d96
DTSTAMP:20260425T013236Z
DESCRIPTION:Join Audubon Nebraska & the Audubon Society of Omaha during Pri
 de Month for this all-inclusive\, fun\, free\, and informal bird walk even
 t to celebrate the diversity of our birds & community! Binoculars will be 
 available and all are welcome. Let’s Go Birding Together!\n\nTo sign up or
  for more information\, email Jason “the Birdnerd” at jstsauver@audubon.or
 g.
DTSTART;TZID=America/Chicago:20190630T100000
DTEND;TZID=America/Chicago:20190630T113000
LOCATION:Heron Haven Wetland\, 11809 Old Maple Rd\, Omaha\, Nebraska 68164
SUMMARY:Let’s Go Birding Together
END:VEVENT
END:VCALENDAR
