BEGIN:VCALENDAR
VERSION:2.0
PRODID:-//audubon-omaha.org//NONSGML kigkonsult.se iCalcreator 2.30.10//
CALSCALE:GREGORIAN
METHOD:PUBLISH
UID:9a7a9bde-2359-43a7-86db-69830dc1429b
X-WR-CALDESC:The Xerces Society’s Jennifer Hopwood will discuss relationshi
 ps among “Plants\, Pollinators and People” at September’s ASO General Meet
 ing. Focusing on the conservation of invertebrates critical to bio diversi
 ty and ecosystem health\, the Xerces Society provides resources and traini
 ng for pollinators and beneficial insect habitat management\, creation and
  restoration. \n\nJennifer earned a Master’s degree in Entomology from the
  University of Kansas. With experience in field and laboratory research\, 
 identification\, education and outreach\, Jennifer is the co-author of sev
 eral books including '100 Plants to Feed the Bees' and 'Farming with Nativ
 e Beneficial Insects.' Prior to joining the Xerces Society 10 years ago\, 
 she taught Biology and Environmental Science at colleges in Iowa.\n\nThis 
 program is free and open to the public.\n\n
X-WR-RELCALID:4472db6e0c61239536f1094ba1ea8808
X-WR-TIMEZONE:America/Chicago
BEGIN:VTIMEZONE
TZID:America/Chicago
BEGIN:STANDARD
TZNAME:CST
DTSTART:20181104T020000
TZOFFSETFROM:-0500
TZOFFSETTO:-0600
RDATE:20191103T020000
RDATE:20201101T020000
END:STANDARD
BEGIN:DAYLIGHT
TZNAME:CDT
DTSTART:20190310T020000
TZOFFSETFROM:-0600
TZOFFSETTO:-0500
RDATE:20200308T020000
END:DAYLIGHT
END:VTIMEZONE
BEGIN:VEVENT
UID:743ebebf-0f69-4ff4-ba6d-0c35aa5a9d5d
DTSTAMP:20260424T203218Z
DESCRIPTION:The Xerces Society’s Jennifer Hopwood will discuss relationship
 s among “Plants\, Pollinators and People” at September’s ASO General Meeti
 ng. Focusing on the conservation of invertebrates critical to bio diversit
 y and ecosystem health\, the Xerces Society provides resources and trainin
 g for pollinators and beneficial insect habitat management\, creation and 
 restoration. \n\nJennifer earned a Master’s degree in Entomology from the 
 University of Kansas. With experience in field and laboratory research\, i
 dentification\, education and outreach\, Jennifer is the co-author of seve
 ral books including '100 Plants to Feed the Bees' and 'Farming with Native
  Beneficial Insects.' Prior to joining the Xerces Society 10 years ago\, s
 he taught Biology and Environmental Science at colleges in Iowa.\n\nThis p
 rogram is free and open to the public.\n\n
DTSTART;TZID=America/Chicago:20190912T190000
DTEND;TZID=America/Chicago:20190912T210000
LOCATION:Weitz Community Engagement Center on the UNO Dodge Campus
SUMMARY:Plants\, Pollinators and People
END:VEVENT
END:VCALENDAR
