BEGIN:VCALENDAR
VERSION:2.0
PRODID:-//audubon-omaha.org//NONSGML kigkonsult.se iCalcreator 2.30.10//
CALSCALE:GREGORIAN
METHOD:PUBLISH
UID:471e161d-18d4-488b-bd8d-b7b0a287c481
X-WR-CALDESC:This is canceled due to flooded trails.\n\nJoin Fontenelle For
 est Biologist Matt Miller on a two-hour restoration hike across varied ter
 rain with stops at key restoration sites. This event is free and open to a
 nyone who might enjoy hiking\, birding and learning about the restoration 
 and land use history of Neale Woods.
X-WR-RELCALID:7c2f93d82058799afa2c261036f1afed
X-WR-TIMEZONE:America/Chicago
BEGIN:VTIMEZONE
TZID:America/Chicago
BEGIN:STANDARD
TZNAME:CST
DTSTART:20181104T020000
TZOFFSETFROM:-0500
TZOFFSETTO:-0600
RDATE:20191103T020000
RDATE:20201101T020000
END:STANDARD
BEGIN:DAYLIGHT
TZNAME:CDT
DTSTART:20190310T020000
TZOFFSETFROM:-0600
TZOFFSETTO:-0500
RDATE:20200308T020000
RDATE:20210314T020000
END:DAYLIGHT
END:VTIMEZONE
BEGIN:VEVENT
UID:c5a115bf-b529-46f2-aa36-d618292cd5f0
DTSTAMP:20260424T203743Z
DESCRIPTION:This is canceled due to flooded trails.\n\nJoin Fontenelle Fore
 st Biologist Matt Miller on a two-hour restoration hike across varied terr
 ain with stops at key restoration sites. This event is free and open to an
 yone who might enjoy hiking\, birding and learning about the restoration a
 nd land use history of Neale Woods.
DTSTART;TZID=America/Chicago:20190922T090000
DTEND;TZID=America/Chicago:20190922T110000
LOCATION:Neale Woods
SUMMARY:Canceled - Field Trip: Neale Woods
END:VEVENT
END:VCALENDAR
