BEGIN:VCALENDAR
VERSION:2.0
PRODID:-//audubon-omaha.org//NONSGML kigkonsult.se iCalcreator 2.30.10//
CALSCALE:GREGORIAN
METHOD:PUBLISH
UID:4936533a-ebfb-4508-86cb-44ee3d22ca6b
X-WR-CALDESC:Please check back for pick-up times and locations.
X-WR-RELCALID:dcd1fc4e4c4ee3da22055cf500938b4b
X-WR-TIMEZONE:America/Chicago
BEGIN:VTIMEZONE
TZID:America/Chicago
BEGIN:STANDARD
TZNAME:CST
DTSTART:20181104T020000
TZOFFSETFROM:-0500
TZOFFSETTO:-0600
RDATE:20191103T020000
RDATE:20201101T020000
END:STANDARD
BEGIN:DAYLIGHT
TZNAME:CDT
DTSTART:20190310T020000
TZOFFSETFROM:-0600
TZOFFSETTO:-0500
RDATE:20200308T020000
RDATE:20210314T020000
END:DAYLIGHT
END:VTIMEZONE
BEGIN:VEVENT
UID:22bb4894-afec-462f-bf14-5083ad91b259
DTSTAMP:20260424T192129Z
DESCRIPTION:Please check back for pick-up times and locations.
DTSTART;TZID=America/Chicago:20191019T000000
DTEND;TZID=America/Chicago:20191019T235900
LOCATION:
SUMMARY:Bird Seed Sale Pick-up
END:VEVENT
END:VCALENDAR
