BEGIN:VCALENDAR
VERSION:2.0
PRODID:-//audubon-omaha.org//NONSGML kigkonsult.se iCalcreator 2.30.10//
CALSCALE:GREGORIAN
METHOD:PUBLISH
UID:200714d3-2c03-4fed-8595-d9da7f9ffd71
X-WR-CALDESC:Please check back for pick-up times and locations.
X-WR-RELCALID:61f175f60341c243a64c6f68fb2ef8a7
X-WR-TIMEZONE:America/Chicago
BEGIN:VTIMEZONE
TZID:America/Chicago
BEGIN:STANDARD
TZNAME:CST
DTSTART:20181104T020000
TZOFFSETFROM:-0500
TZOFFSETTO:-0600
RDATE:20191103T020000
RDATE:20201101T020000
END:STANDARD
BEGIN:DAYLIGHT
TZNAME:CDT
DTSTART:20190310T020000
TZOFFSETFROM:-0600
TZOFFSETTO:-0500
RDATE:20200308T020000
RDATE:20210314T020000
END:DAYLIGHT
END:VTIMEZONE
BEGIN:VEVENT
UID:267e8d74-72a8-45c0-b76f-be905de67a39
DTSTAMP:20260424T192129Z
DESCRIPTION:Please check back for pick-up times and locations.
DTSTART;TZID=America/Chicago:20191020T000000
DTEND;TZID=America/Chicago:20191020T235900
LOCATION:
SUMMARY:Bird Seed Sale Pick-up
END:VEVENT
END:VCALENDAR
