BEGIN:VCALENDAR
VERSION:2.0
PRODID:-//audubon-omaha.org//NONSGML kigkonsult.se iCalcreator 2.30.10//
CALSCALE:GREGORIAN
METHOD:PUBLISH
UID:66cc6df9-65e8-410c-87c4-f0b8ac0db273
X-WR-CALDESC:Bird Sarpy County with Clem Klaphake.  For Birders looking for
  a brisk walk\, seasonal serenity and bird-seedy characters. \n\nRendezvou
 s at Shadow Lake on the south side of Shadow Lake Shopping Center\, at 72n
 d Street and Highway 370. Look for us in the parking area on the east end 
 of Shadow Lake\, south of Schram Road on Lakeview Drive. From there\, we w
 ill work our way west to spot ducks\, geese\, sparrows and other winter mi
 grants. Bring binoculars and spotting scopes (if you have one)\, and be su
 re to dress appropriately for the weather.  Lunch will take place wherever
  we are when the urge strikes
X-WR-RELCALID:efb0871ce45872666d70989a0d66ce5d
X-WR-TIMEZONE:America/Chicago
BEGIN:VTIMEZONE
TZID:America/Chicago
BEGIN:STANDARD
TZNAME:CST
DTSTART:20191103T020000
TZOFFSETFROM:-0500
TZOFFSETTO:-0600
RDATE:20201101T020000
END:STANDARD
BEGIN:DAYLIGHT
TZNAME:CDT
DTSTART:20190310T020000
TZOFFSETFROM:-0600
TZOFFSETTO:-0500
RDATE:20200308T020000
RDATE:20210314T020000
END:DAYLIGHT
END:VTIMEZONE
BEGIN:VEVENT
UID:91355525-dd4e-4694-9dc9-7383d9f5bdb7
DTSTAMP:20260424T173633Z
DESCRIPTION:Bird Sarpy County with Clem Klaphake.  For Birders looking for 
 a brisk walk\, seasonal serenity and bird-seedy characters. \n\nRendezvous
  at Shadow Lake on the south side of Shadow Lake Shopping Center\, at 72nd
  Street and Highway 370. Look for us in the parking area on the east end o
 f Shadow Lake\, south of Schram Road on Lakeview Drive. From there\, we wi
 ll work our way west to spot ducks\, geese\, sparrows and other winter mig
 rants. Bring binoculars and spotting scopes (if you have one)\, and be sur
 e to dress appropriately for the weather.  Lunch will take place wherever 
 we are when the urge strikes
DTSTART;TZID=America/Chicago:20191116T080000
DTEND;TZID=America/Chicago:20191116T120000
LOCATION:Shadow Lake
SUMMARY:Field Trip - Birding Sarpy County
END:VEVENT
END:VCALENDAR
