BEGIN:VCALENDAR
VERSION:2.0
PRODID:-//audubon-omaha.org//NONSGML kigkonsult.se iCalcreator 2.30.10//
CALSCALE:GREGORIAN
METHOD:PUBLISH
UID:8e90bbb9-fa65-41eb-aabf-aa00097b2c76
X-WR-CALDESC:The Audubon Society of Omaha and Fontenelle Forest Raptor Reco
 very are hosting a viewing of FRAGMENTS\, the documentary short film by Al
 ex Wiles.  FRAGMENTS is about the epidemic of lead poisoning in raptors an
 d was produced in part by Audubon Society of Omaha.  A panel discussion wi
 th local experts will follow and a raptor expert will have two rehabilitat
 ed bald eagles on site.  \n\nThis event is free\; however\, due to limited
  space\, each individual MUST BE REGISTERED to attend (Register below).  S
 eating limited to 175.  \n\nLocation:  \nThe Forest Room at Fontenelle For
 est Nature Center\n 111 Bellevue Blvd North\n Bellevue\, NE  68005\n\nWarn
 ing: Graphic images of sick and dying eagles may be disturbing for some.\n
X-WR-RELCALID:2f2e7e220372a25b3714174403da152d
X-WR-TIMEZONE:America/Chicago
BEGIN:VTIMEZONE
TZID:America/Chicago
BEGIN:STANDARD
TZNAME:CST
DTSTART:20191103T020000
TZOFFSETFROM:-0500
TZOFFSETTO:-0600
RDATE:20201101T020000
END:STANDARD
BEGIN:DAYLIGHT
TZNAME:CDT
DTSTART:20190310T020000
TZOFFSETFROM:-0600
TZOFFSETTO:-0500
RDATE:20200308T020000
RDATE:20210314T020000
END:DAYLIGHT
END:VTIMEZONE
BEGIN:VEVENT
UID:d50d47f3-f360-4cb1-9fb6-4ad2a93b8c4a
DTSTAMP:20260424T115445Z
DESCRIPTION:The Audubon Society of Omaha and Fontenelle Forest Raptor Recov
 ery are hosting a viewing of FRAGMENTS\, the documentary short film by Ale
 x Wiles.  FRAGMENTS is about the epidemic of lead poisoning in raptors and
  was produced in part by Audubon Society of Omaha.  A panel discussion wit
 h local experts will follow and a raptor expert will have two rehabilitate
 d bald eagles on site.  \n\nThis event is free\; however\, due to limited 
 space\, each individual MUST BE REGISTERED to attend (Register below).  Se
 ating limited to 175.  \n\nLocation:  \nThe Forest Room at Fontenelle Fore
 st Nature Center\n 111 Bellevue Blvd North\n Bellevue\, NE  68005\n\nWarni
 ng: Graphic images of sick and dying eagles may be disturbing for some.\n
DTSTART;TZID=America/Chicago:20200213T190000
DTEND;TZID=America/Chicago:20200213T210000
LOCATION:Fontenelle Forest
SUMMARY:Members’ Meeting: FRAGMENTS Documentary Short Film
END:VEVENT
END:VCALENDAR
