BEGIN:VCALENDAR
VERSION:2.0
PRODID:-//audubon-omaha.org//NONSGML kigkonsult.se iCalcreator 2.30.10//
CALSCALE:GREGORIAN
METHOD:PUBLISH
UID:4b95cfaa-54bc-4742-b749-8a7cdc645b04
X-WR-CALDESC:Bring entries to the Audubon Society of Omaha office which wil
 l be open during these times: \n - Friday\, February 21 - 3:00 p.m. to 6:0
 0 p.m.\n - Saturday\, February 22 - 10:00 a.m. to 3:00 p.m.\n\nCenter Mall
  at 42nd & Center Streets\, lower level\, Suite 108\n
X-WR-RELCALID:ce1b32e06b7cb52792e19dd593cd4a11
X-WR-TIMEZONE:America/Chicago
BEGIN:VTIMEZONE
TZID:America/Chicago
BEGIN:STANDARD
TZNAME:CST
DTSTART:20191103T020000
TZOFFSETFROM:-0500
TZOFFSETTO:-0600
RDATE:20201101T020000
END:STANDARD
BEGIN:DAYLIGHT
TZNAME:CDT
DTSTART:20190310T020000
TZOFFSETFROM:-0600
TZOFFSETTO:-0500
RDATE:20200308T020000
RDATE:20210314T020000
END:DAYLIGHT
END:VTIMEZONE
BEGIN:VEVENT
UID:477785ae-27ef-46c1-ad99-3012819d62cf
DTSTAMP:20260424T115220Z
DESCRIPTION:Bring entries to the Audubon Society of Omaha office which will
  be open during these times: \n - Friday\, February 21 - 3:00 p.m. to 6:00
  p.m.\n - Saturday\, February 22 - 10:00 a.m. to 3:00 p.m.\n\nCenter Mall 
 at 42nd & Center Streets\, lower level\, Suite 108\n
DTSTART;TZID=America/Chicago:20200222T000000
DTEND;TZID=America/Chicago:20200222T235900
LOCATION:ASO Office\, Center Mall\, Suite 108
SUMMARY:10am-3pm Student Art Contest Drop off
END:VEVENT
END:VCALENDAR
