BEGIN:VCALENDAR
VERSION:2.0
PRODID:-//audubon-omaha.org//NONSGML kigkonsult.se iCalcreator 2.30.10//
CALSCALE:GREGORIAN
METHOD:PUBLISH
UID:9c36fce6-d1ce-44c4-92c5-d683814de16b
X-WR-CALDESC:
X-WR-RELCALID:641757dbd9212c8532e2a7883b05d225
X-WR-TIMEZONE:America/Chicago
BEGIN:VTIMEZONE
TZID:America/Chicago
BEGIN:STANDARD
TZNAME:CST
DTSTART:20191103T020000
TZOFFSETFROM:-0500
TZOFFSETTO:-0600
RDATE:20201101T020000
END:STANDARD
BEGIN:DAYLIGHT
TZNAME:CDT
DTSTART:20190310T020000
TZOFFSETFROM:-0600
TZOFFSETTO:-0500
RDATE:20200308T020000
RDATE:20210314T020000
END:DAYLIGHT
END:VTIMEZONE
BEGIN:VEVENT
UID:901f374c-e105-41cb-b82b-8eb9f4cf18c3
DTSTAMP:20260424T120823Z
DESCRIPTION:
DTSTART;TZID=America/Chicago:20200222T000000
DTEND;TZID=America/Chicago:20200222T235900
LOCATION:
SUMMARY:9am-4pm Bird Seed Pickup
END:VEVENT
END:VCALENDAR
