BEGIN:VCALENDAR
VERSION:2.0
PRODID:-//audubon-omaha.org//NONSGML kigkonsult.se iCalcreator 2.30.10//
CALSCALE:GREGORIAN
METHOD:PUBLISH
UID:b5794b89-bf5d-4248-9ad5-1d99f4b4e3ba
X-WR-CALDESC:
X-WR-RELCALID:66d58def0abe0109cc0f2f45ba33ba95
X-WR-TIMEZONE:America/Chicago
BEGIN:VTIMEZONE
TZID:America/Chicago
BEGIN:STANDARD
TZNAME:CST
DTSTART:20191103T020000
TZOFFSETFROM:-0500
TZOFFSETTO:-0600
RDATE:20201101T020000
END:STANDARD
BEGIN:DAYLIGHT
TZNAME:CDT
DTSTART:20200308T020000
TZOFFSETFROM:-0600
TZOFFSETTO:-0500
RDATE:20210314T020000
END:DAYLIGHT
END:VTIMEZONE
BEGIN:VEVENT
UID:4829f107-a513-4e1d-a6bb-11a8584fe7d9
DTSTAMP:20260424T100645Z
DESCRIPTION:
DTSTART;TZID=America/Chicago:20200312T190000
DTEND;TZID=America/Chicago:20200312T210000
LOCATION:
SUMMARY:CANCELED!  Member Meeting - Bird  Photography
END:VEVENT
END:VCALENDAR
