BEGIN:VCALENDAR
VERSION:2.0
PRODID:-//audubon-omaha.org//NONSGML kigkonsult.se iCalcreator 2.30.10//
CALSCALE:GREGORIAN
METHOD:PUBLISH
UID:e0e000c3-09dc-4932-9b4e-ca60e158c6ca
X-WR-CALDESC:
X-WR-RELCALID:7e4cb93e7036c4150afc4188aa1b2958
X-WR-TIMEZONE:America/Chicago
BEGIN:VTIMEZONE
TZID:America/Chicago
BEGIN:STANDARD
TZNAME:CST
DTSTART:20191103T020000
TZOFFSETFROM:-0500
TZOFFSETTO:-0600
RDATE:20201101T020000
END:STANDARD
BEGIN:DAYLIGHT
TZNAME:CDT
DTSTART:20200308T020000
TZOFFSETFROM:-0600
TZOFFSETTO:-0500
RDATE:20210314T020000
END:DAYLIGHT
END:VTIMEZONE
BEGIN:VEVENT
UID:7c4a11e3-4cd4-4b17-98cc-2705d17a34e5
DTSTAMP:20260424T082701Z
DESCRIPTION:
DTSTART;TZID=America/Chicago:20200409T190000
DTEND;TZID=America/Chicago:20200409T210000
LOCATION:
SUMMARY:CANCELED: Member Meeting - Creating Healthy Habitats for Birds
END:VEVENT
END:VCALENDAR
