BEGIN:VCALENDAR
VERSION:2.0
PRODID:-//audubon-omaha.org//NONSGML kigkonsult.se iCalcreator 2.30.10//
CALSCALE:GREGORIAN
METHOD:PUBLISH
UID:852657c0-332c-4f29-89aa-2882e1de201a
X-WR-CALDESC:
X-WR-RELCALID:3c1dcac7c8016f00a706c879eae7a256
X-WR-TIMEZONE:America/Chicago
BEGIN:VTIMEZONE
TZID:America/Chicago
BEGIN:STANDARD
TZNAME:CST
DTSTART:20191103T020000
TZOFFSETFROM:-0500
TZOFFSETTO:-0600
RDATE:20201101T020000
END:STANDARD
BEGIN:DAYLIGHT
TZNAME:CDT
DTSTART:20200308T020000
TZOFFSETFROM:-0600
TZOFFSETTO:-0500
RDATE:20210314T020000
END:DAYLIGHT
END:VTIMEZONE
BEGIN:VEVENT
UID:dd924d27-7535-499e-96fa-d9e8e0098348
DTSTAMP:20260424T082406Z
DESCRIPTION:
DTSTART;TZID=America/Chicago:20200418T000000
DTEND;TZID=America/Chicago:20200418T235900
LOCATION:
SUMMARY:CANCELED:  Student Art Show and Awards Ceremony
END:VEVENT
END:VCALENDAR
