BEGIN:VCALENDAR
VERSION:2.0
PRODID:-//audubon-omaha.org//NONSGML kigkonsult.se iCalcreator 2.30.10//
CALSCALE:GREGORIAN
METHOD:PUBLISH
UID:86d42152-d58a-4042-a0f2-ac217e1cf227
X-WR-CALDESC:
X-WR-RELCALID:e80335e7278e408551c9ac33e5cc839a
X-WR-TIMEZONE:America/Chicago
BEGIN:VTIMEZONE
TZID:America/Chicago
BEGIN:STANDARD
TZNAME:CST
DTSTART:20191103T020000
TZOFFSETFROM:-0500
TZOFFSETTO:-0600
RDATE:20201101T020000
END:STANDARD
BEGIN:DAYLIGHT
TZNAME:CDT
DTSTART:20200308T020000
TZOFFSETFROM:-0600
TZOFFSETTO:-0500
RDATE:20210314T020000
END:DAYLIGHT
END:VTIMEZONE
BEGIN:VEVENT
UID:07e7bf2e-ea62-4b92-bf0d-7159568d08dc
DTSTAMP:20260424T082313Z
DESCRIPTION:
DTSTART;TZID=America/Chicago:20200421T190000
DTEND;TZID=America/Chicago:20200421T210000
LOCATION:
SUMMARY:ASO Members Meeting?
END:VEVENT
END:VCALENDAR
