BEGIN:VCALENDAR
VERSION:2.0
PRODID:-//audubon-omaha.org//NONSGML kigkonsult.se iCalcreator 2.30.10//
CALSCALE:GREGORIAN
METHOD:PUBLISH
UID:d5fb192e-9ee6-4bb8-94db-279a23551400
X-WR-CALDESC:\n
X-WR-RELCALID:505162171956298e305d9809ce3ffc38
X-WR-TIMEZONE:America/Chicago
BEGIN:VTIMEZONE
TZID:America/Chicago
BEGIN:STANDARD
TZNAME:CST
DTSTART:20191103T020000
TZOFFSETFROM:-0500
TZOFFSETTO:-0600
RDATE:20201101T020000
RDATE:20211107T020000
END:STANDARD
BEGIN:DAYLIGHT
TZNAME:CDT
DTSTART:20200308T020000
TZOFFSETFROM:-0600
TZOFFSETTO:-0500
RDATE:20210314T020000
END:DAYLIGHT
END:VTIMEZONE
BEGIN:VEVENT
UID:1389101b-b1a9-4359-94d8-9d567082f5aa
DTSTAMP:20260424T063939Z
DESCRIPTION:\n
DTSTART;TZID=America/Chicago:20200514T180000
DTEND;TZID=America/Chicago:20200514T210000
LOCATION:
SUMMARY:Canceled! - ASO Annual Banquet
END:VEVENT
END:VCALENDAR
