BEGIN:VCALENDAR
VERSION:2.0
PRODID:-//audubon-omaha.org//NONSGML kigkonsult.se iCalcreator 2.30.10//
CALSCALE:GREGORIAN
METHOD:PUBLISH
UID:f580d2b1-239f-4ed8-b4f3-36389ed77ff3
X-WR-CALDESC:Speaker: Bob Wells\, President of Audubon Society of Omaha\nTo
 pic: Bird Feeding Basics\nWhen: 7 - 8 p.m.\nWhere: Computer\, laptop\, tab
 let or phone\, in your setting of choice.\nHow: Watch the recording on You
 Tube at https://youtu.be/fIZwGODGOtQ\nWho: Members and the public (free)\n
 \nAfter registering\, you will receive a confirmation email containing inf
 ormation about joining the meeting.
X-WR-RELCALID:aea787baca7bf29e633adf784d216764
X-WR-TIMEZONE:America/Chicago
BEGIN:VTIMEZONE
TZID:America/Chicago
BEGIN:STANDARD
TZNAME:CST
DTSTART:20191103T020000
TZOFFSETFROM:-0500
TZOFFSETTO:-0600
RDATE:20201101T020000
RDATE:20211107T020000
END:STANDARD
BEGIN:DAYLIGHT
TZNAME:CDT
DTSTART:20200308T020000
TZOFFSETFROM:-0600
TZOFFSETTO:-0500
RDATE:20210314T020000
RDATE:20220313T020000
END:DAYLIGHT
END:VTIMEZONE
BEGIN:VEVENT
UID:1b4147ca-9a7b-4d6c-8bf4-8ff79b9390a7
DTSTAMP:20260423T222105Z
DESCRIPTION:Speaker: Bob Wells\, President of Audubon Society of Omaha\nTop
 ic: Bird Feeding Basics\nWhen: 7 - 8 p.m.\nWhere: Computer\, laptop\, tabl
 et or phone\, in your setting of choice.\nHow: Watch the recording on YouT
 ube at https://youtu.be/fIZwGODGOtQ\nWho: Members and the public (free)\n
 \nAfter registering\, you will receive a confirmation email containing inf
 ormation about joining the meeting.
DTSTART;TZID=America/Chicago:20201008T190000
DTEND;TZID=America/Chicago:20201008T200000
LOCATION:https://youtu.be/fIZwGODGOtQ
SUMMARY:VIRTUAL Member Meeting - Bird Feeding Basics
END:VEVENT
END:VCALENDAR
