BEGIN:VCALENDAR
VERSION:2.0
PRODID:-//audubon-omaha.org//NONSGML kigkonsult.se iCalcreator 2.30.10//
CALSCALE:GREGORIAN
METHOD:PUBLISH
UID:7960b72b-527e-4c3a-b461-f32c546a765b
X-WR-CALDESC:You are invited to a Zoom meeting.  The VP of the UNO Conserva
 tion Audubon Society Chapter is presenting on the Chapter formation and th
 eir progress over last year.  \n \nWhen: Feb 11\, 2021 07:00 PM Central Ti
 me (US and Canada) \n\nRegister in advance for this meeting.  After regist
 ering\, you will receive a confirmation email containing information about
  joining the meeting.
X-WR-RELCALID:80d178eaaaaf215cdf8f203971225952
X-WR-TIMEZONE:America/Chicago
BEGIN:VTIMEZONE
TZID:America/Chicago
BEGIN:STANDARD
TZNAME:CST
DTSTART:20201101T020000
TZOFFSETFROM:-0500
TZOFFSETTO:-0600
RDATE:20211107T020000
END:STANDARD
BEGIN:DAYLIGHT
TZNAME:CDT
DTSTART:20200308T020000
TZOFFSETFROM:-0600
TZOFFSETTO:-0500
RDATE:20210314T020000
RDATE:20220313T020000
END:DAYLIGHT
END:VTIMEZONE
BEGIN:VEVENT
UID:d365a710-2edb-4118-96c5-46b124538b46
DTSTAMP:20260423T154153Z
DESCRIPTION:You are invited to a Zoom meeting.  The VP of the UNO Conservat
 ion Audubon Society Chapter is presenting on the Chapter formation and the
 ir progress over last year.  \n \nWhen: Feb 11\, 2021 07:00 PM Central Tim
 e (US and Canada) \n\nRegister in advance for this meeting.  After registe
 ring\, you will receive a confirmation email containing information about 
 joining the meeting.
DTSTART;TZID=America/Chicago:20210211T190000
DTEND;TZID=America/Chicago:20210211T200000
LOCATION:https://us02web.zoom.us/meeting/register/tZUtduytqDoqGdbEDsJ89w9fb
 4OCtLbd_eC3
SUMMARY:Virtual Member Event - UNO Audubon Chapter
END:VEVENT
END:VCALENDAR
