BEGIN:VCALENDAR
VERSION:2.0
PRODID:-//audubon-omaha.org//NONSGML kigkonsult.se iCalcreator 2.30.10//
CALSCALE:GREGORIAN
METHOD:PUBLISH
UID:eb59fbf4-5f14-49a9-9bf4-434ece6496fa
X-WR-CALDESC:You are invited to a Zoom meeting! Scott Bradley will be prese
 nting on Identification of Early Spring Migrants. This is a great presenta
 tion for all beginning and backyard birders.\n\nWhen: Mar 11\, 2021 07:00 
 PM Central Time (US and Canada)\n\nRegister in advance for this meeting:  
 After registering\, you will receive a confirmation email containing infor
 mation about joining the meeting.\n
X-WR-RELCALID:684820714935db09d0113c6e64d661a6
X-WR-TIMEZONE:America/Chicago
BEGIN:VTIMEZONE
TZID:America/Chicago
BEGIN:STANDARD
TZNAME:CST
DTSTART:20201101T020000
TZOFFSETFROM:-0500
TZOFFSETTO:-0600
RDATE:20211107T020000
END:STANDARD
BEGIN:DAYLIGHT
TZNAME:CDT
DTSTART:20210314T020000
TZOFFSETFROM:-0600
TZOFFSETTO:-0500
RDATE:20220313T020000
END:DAYLIGHT
END:VTIMEZONE
BEGIN:VEVENT
UID:4942f173-d7f7-4072-8f19-aa9ea1af2fb5
DTSTAMP:20260423T134917Z
DESCRIPTION:You are invited to a Zoom meeting! Scott Bradley will be presen
 ting on Identification of Early Spring Migrants. This is a great presentat
 ion for all beginning and backyard birders.\n\nWhen: Mar 11\, 2021 07:00 P
 M Central Time (US and Canada)\n\nRegister in advance for this meeting:  A
 fter registering\, you will receive a confirmation email containing inform
 ation about joining the meeting.\n
DTSTART;TZID=America/Chicago:20210311T190000
DTEND;TZID=America/Chicago:20210311T200000
LOCATION:https://us02web.zoom.us/meeting/register/tZAucu2ppzoiGNcf9UQMvqiWq
 j1tjd6XYWoD
SUMMARY:Virtual Member Event: ID of Spring Migrants
END:VEVENT
END:VCALENDAR
