BEGIN:VCALENDAR
VERSION:2.0
PRODID:-//audubon-omaha.org//NONSGML kigkonsult.se iCalcreator 2.30.10//
CALSCALE:GREGORIAN
METHOD:PUBLISH
UID:ea5c02b7-54ee-4490-920b-f4dda0c5551f
X-WR-CALDESC:Online galleries for each grade will be posted through April 3
 0.
X-WR-RELCALID:066b6bbfac686ad4a9c9cc64a7825819
X-WR-TIMEZONE:America/Chicago
BEGIN:VTIMEZONE
TZID:America/Chicago
BEGIN:STANDARD
TZNAME:CST
DTSTART:20201101T020000
TZOFFSETFROM:-0500
TZOFFSETTO:-0600
RDATE:20211107T020000
END:STANDARD
BEGIN:DAYLIGHT
TZNAME:CDT
DTSTART:20210314T020000
TZOFFSETFROM:-0600
TZOFFSETTO:-0500
RDATE:20220313T020000
END:DAYLIGHT
END:VTIMEZONE
BEGIN:VEVENT
UID:668bee46-b12c-4fe2-813a-2a993905907e
DTSTAMP:20260423T121751Z
DESCRIPTION:Online galleries for each grade will be posted through April 30
 .
DTSTART;TZID=America/Chicago:20210405T000000
DTEND;TZID=America/Chicago:20210405T235900
LOCATION:See all the artwork from this year's Student Art Contest.
SUMMARY:Student Art Show: Now open until April 30
END:VEVENT
END:VCALENDAR
