BEGIN:VCALENDAR
VERSION:2.0
PRODID:-//audubon-omaha.org//NONSGML kigkonsult.se iCalcreator 2.30.10//
CALSCALE:GREGORIAN
METHOD:PUBLISH
UID:c2332559-79f3-4e5c-9937-7636dee9e9d7
X-WR-CALDESC:Prizes and ribbons can be picked up by the teacher or parent w
 ho submitted the student's entry. Pickups will take place at our NEW offic
 e located at 4339 S. 90th Street. Please contact Virginia Stauffer at vsta
 uffer1@yahoo.com If you need to make alternate arrangements.
X-WR-RELCALID:af3f41c3468d7172f366a1cb3e1da197
X-WR-TIMEZONE:America/Chicago
BEGIN:VTIMEZONE
TZID:America/Chicago
BEGIN:STANDARD
TZNAME:CST
DTSTART:20201101T020000
TZOFFSETFROM:-0500
TZOFFSETTO:-0600
RDATE:20211107T020000
END:STANDARD
BEGIN:DAYLIGHT
TZNAME:CDT
DTSTART:20210314T020000
TZOFFSETFROM:-0600
TZOFFSETTO:-0500
RDATE:20220313T020000
END:DAYLIGHT
END:VTIMEZONE
BEGIN:VEVENT
UID:bb10c572-5b2a-4258-bf0a-853d2ac37e9f
DTSTAMP:20260423T120741Z
DESCRIPTION:Prizes and ribbons can be picked up by the teacher or parent wh
 o submitted the student's entry. Pickups will take place at our NEW office
  located at 4339 S. 90th Street. Please contact Virginia Stauffer at vstau
 ffer1@yahoo.com If you need to make alternate arrangements.
DTSTART;TZID=America/Chicago:20210407T150000
DTEND;TZID=America/Chicago:20210407T183000
LOCATION:Audubon Society of Omaha\, 4339 S. 90th Street\, Omaha\, NE 68217 
 US
SUMMARY:Art Contest Ribbon and Prize Pickup
END:VEVENT
END:VCALENDAR
