BEGIN:VCALENDAR
VERSION:2.0
PRODID:-//audubon-omaha.org//NONSGML kigkonsult.se iCalcreator 2.30.10//
CALSCALE:GREGORIAN
METHOD:PUBLISH
UID:4ddbe7fb-9af9-4733-bf55-45d8601b97eb
X-WR-CALDESC:
X-WR-RELCALID:d45a6f839f94755785867ec221d97164
X-WR-TIMEZONE:America/Chicago
BEGIN:VTIMEZONE
TZID:America/Chicago
BEGIN:STANDARD
TZNAME:CST
DTSTART:20211107T020000
TZOFFSETFROM:-0500
TZOFFSETTO:-0600
RDATE:20221106T020000
END:STANDARD
BEGIN:DAYLIGHT
TZNAME:CDT
DTSTART:20210314T020000
TZOFFSETFROM:-0600
TZOFFSETTO:-0500
RDATE:20220313T020000
RDATE:20230312T020000
END:DAYLIGHT
END:VTIMEZONE
BEGIN:VEVENT
UID:6bb3684b-2457-4c69-b4d8-b1a78a83e766
DTSTAMP:20260422T153040Z
DESCRIPTION:
DTSTART;TZID=America/Chicago:20220210T000000
DTEND;TZID=America/Chicago:20220210T235900
LOCATION:https://audubon-omaha.org/seed-sale-order.html
SUMMARY:FINAL day to order bird seed
END:VEVENT
END:VCALENDAR
