BEGIN:VCALENDAR
VERSION:2.0
PRODID:-//audubon-omaha.org//NONSGML kigkonsult.se iCalcreator 2.30.10//
CALSCALE:GREGORIAN
METHOD:PUBLISH
UID:f5cc3ce6-b7f0-4100-82a7-c6b314147a13
X-WR-CALDESC:
X-WR-RELCALID:8223958025c2dce5ccea8e3be2952cb1
X-WR-TIMEZONE:America/Chicago
BEGIN:VTIMEZONE
TZID:America/Chicago
BEGIN:STANDARD
TZNAME:CST
DTSTART:20211107T020000
TZOFFSETFROM:-0500
TZOFFSETTO:-0600
RDATE:20221106T020000
END:STANDARD
BEGIN:DAYLIGHT
TZNAME:CDT
DTSTART:20210314T020000
TZOFFSETFROM:-0600
TZOFFSETTO:-0500
RDATE:20220313T020000
RDATE:20230312T020000
END:DAYLIGHT
END:VTIMEZONE
BEGIN:VEVENT
UID:e7d9a43b-9ab5-46f3-af9a-7815b609210f
DTSTAMP:20260422T152551Z
DESCRIPTION:
DTSTART;TZID=America/Chicago:20220219T090000
DTEND;TZID=America/Chicago:20220219T170000
LOCATION:4339 South 90th St (between F St. and L St.) \, Omaha\, NE 68127 U
 S
SUMMARY:Bird Seed Order Pickup
END:VEVENT
END:VCALENDAR
