BEGIN:VCALENDAR
VERSION:2.0
PRODID:-//audubon-omaha.org//NONSGML kigkonsult.se iCalcreator 2.30.10//
CALSCALE:GREGORIAN
METHOD:PUBLISH
UID:8f4c14ac-4276-4f8d-b22b-f6f9e79f04d8
X-WR-CALDESC:
X-WR-RELCALID:297686d0b45f4ab6da7460aa3aa1aad8
X-WR-TIMEZONE:America/Chicago
BEGIN:VTIMEZONE
TZID:America/Chicago
BEGIN:STANDARD
TZNAME:CST
DTSTART:20211107T020000
TZOFFSETFROM:-0500
TZOFFSETTO:-0600
RDATE:20221106T020000
END:STANDARD
BEGIN:DAYLIGHT
TZNAME:CDT
DTSTART:20210314T020000
TZOFFSETFROM:-0600
TZOFFSETTO:-0500
RDATE:20220313T020000
RDATE:20230312T020000
END:DAYLIGHT
END:VTIMEZONE
BEGIN:VEVENT
UID:08b2c8b1-ceea-474f-a9c2-a46ba5edbdf3
DTSTAMP:20260422T140111Z
DESCRIPTION:
DTSTART;TZID=America/Chicago:20220301T170000
DTEND;TZID=America/Chicago:20220301T180000
LOCATION:https://audubon-omaha.org/student-art-contest/student-art-contest.
 html
SUMMARY:FINAL day to enter Student Art Contest
END:VEVENT
END:VCALENDAR
